BEGIN:VCALENDAR
VERSION:2.0
PRODID:-//wp-events-plugin.com//7.2.3.1//EN
TZID:Europe/Berlin
X-WR-TIMEZONE:Europe/Berlin
BEGIN:VEVENT
UID:425@kletterscheune.de
DTSTART;TZID=Europe/Berlin:20260530T000000
DTEND;TZID=Europe/Berlin:20260530T235900
DTSTAMP:20260417T114053Z
URL:https://www.kletterscheune.de/events/boulder-funcup-im-level-8/
SUMMARY:Boulder Funcup im Level 8
DESCRIPTION:Info auf Instagram
CATEGORIES:Veranstaltungstipp
LOCATION:Level 8\, Lehmweg 10\, Gießen\, 35398\, Deutschland
X-APPLE-STRUCTURED-LOCATION;VALUE=URI;X-ADDRESS=Lehmweg 10\, Gießen\, 3539
 8\, Deutschland;X-APPLE-RADIUS=100;X-TITLE=Level 8:geo:0,0
END:VEVENT
BEGIN:VTIMEZONE
TZID:Europe/Berlin
X-LIC-LOCATION:Europe/Berlin
BEGIN:DAYLIGHT
DTSTART:20260329T030000
TZOFFSETFROM:+0100
TZOFFSETTO:+0200
TZNAME:CEST
END:DAYLIGHT
END:VTIMEZONE
END:VCALENDAR