BEGIN:VCALENDAR
VERSION:2.0
PRODID:-//wp-events-plugin.com//7.2.3.1//EN
TZID:Europe/Berlin
X-WR-TIMEZONE:Europe/Berlin
BEGIN:VEVENT
UID:394@kletterscheune.de
DTSTART;TZID=Europe/Berlin;VALUE=DATE:20260627
DTEND;TZID=Europe/Berlin;VALUE=DATE:20260628
DTSTAMP:20260327T121110Z
URL:https://www.kletterscheune.de/events/funcup-boulder-wahn/
SUMMARY:Funcup "Boulder Wahn"
DESCRIPTION:Ankündigung auf Instagram
CATEGORIES:Veranstaltungstipp
LOCATION:Wiesbadener Nordwand\, Hagenauer Straße 49\, Wiesbaden\, 65203\, 
 Deutschland
X-APPLE-STRUCTURED-LOCATION;VALUE=URI;X-ADDRESS=Hagenauer Straße 49\, Wies
 baden\, 65203\, Deutschland;X-APPLE-RADIUS=100;X-TITLE=Wiesbadener Nordwan
 d:geo:0,0
END:VEVENT
BEGIN:VTIMEZONE
TZID:Europe/Berlin
X-LIC-LOCATION:Europe/Berlin
BEGIN:DAYLIGHT
DTSTART:20260329T030000
TZOFFSETFROM:+0100
TZOFFSETTO:+0200
TZNAME:CEST
END:DAYLIGHT
END:VTIMEZONE
END:VCALENDAR