BEGIN:VCALENDAR
VERSION:2.0
PRODID:-//wp-events-plugin.com//7.2.3.1//EN
TZID:Europe/Berlin
X-WR-TIMEZONE:Europe/Berlin
BEGIN:VEVENT
UID:313@kletterscheune.de
DTSTART:20261025T090000Z
DTEND:20261025T110000Z
DTSTAMP:20251221T210035Z
URL:https://www.kletterscheune.de/events/klettern-fuer-gross-und-klein-elt
 ern-kind-klettern-4-2026-01-18-2026-02-15-2026-03-15-2026-04-12-2026-05-10
 -2026-06-07-2026-07-05-2026-08-02-2026-08-30-2026-09-27-2026-10-25/
SUMMARY:Klettern für Groß und Klein (Eltern-Kind-Klettern)
DESCRIPTION:Beim Klettern für Groß und Klein ist die Idee\, dass sowohl d
 ie Kinder als auch die Erwachsenen die Möglichkeit haben zu klettern und 
 man sich dazu gegenseitig unterstützt.\n\nEine Altersbeschränkung gibt e
 s nicht.\n\nEs handelt sich vom Charakter um ein "freies Training" bitte b
 erücksichtigt die entsprechenden Regelungen zum Sichern und Klettern nach
  aktueller Hallenordnung.\n\nEine regelmäßige Teilnahme ist nicht nötig
 \, aber erfreulich. \;)\n\nEin Schnupperkurs für Nichtmitglieder\, mit od
 er ohne Klettererfahrung ist in gesonderten Terminen möglich. Siehe Veran
 staltung  "Schnupperkurs für Groß und Klein" im Terminkalender.
CATEGORIES:Freies Training
LOCATION:Kletterscheune\, Sonntagsstraße 25\, 65597 Hünfelden\, Deutschla
 nd
X-APPLE-STRUCTURED-LOCATION;VALUE=URI;X-ADDRESS=Sonntagsstraße 25\, 65597 
 Hünfelden\, Deutschland;X-APPLE-RADIUS=100;X-TITLE=Kletterscheune:geo:0,0
END:VEVENT
END:VCALENDAR