BEGIN:VCALENDAR
VERSION:2.0
PRODID:-//wp-events-plugin.com//7.2.3.1//EN
TZID:Europe/Berlin
X-WR-TIMEZONE:Europe/Berlin
BEGIN:VEVENT
UID:391@kletterscheune.de
DTSTART;TZID=Europe/Berlin;VALUE=DATE:20260425
DTEND;TZID=Europe/Berlin;VALUE=DATE:20260426
DTSTAMP:20260318T213747Z
URL:https://www.kletterscheune.de/events/main-moves-boulder-funcup/
SUMMARY:Main Moves Boulder Funcup
DESCRIPTION:https://www.boulderwelt-frankfurt.de/main-moves-2026/
CATEGORIES:Veranstaltungstipp
LOCATION:Boulderwelt Frankfurt\, August-Schanz-Straße 50\, Frankfurt\, 604
 33\, Deutschland
X-APPLE-STRUCTURED-LOCATION;VALUE=URI;X-ADDRESS=August-Schanz-Straße 50\, 
 Frankfurt\, 60433\, Deutschland;X-APPLE-RADIUS=100;X-TITLE=Boulderwelt Fra
 nkfurt:geo:0,0
END:VEVENT
BEGIN:VTIMEZONE
TZID:Europe/Berlin
X-LIC-LOCATION:Europe/Berlin
BEGIN:DAYLIGHT
DTSTART:20260329T030000
TZOFFSETFROM:+0100
TZOFFSETTO:+0200
TZNAME:CEST
END:DAYLIGHT
END:VTIMEZONE
END:VCALENDAR