BEGIN:VCALENDAR
VERSION:2.0
PRODID:-//wp-events-plugin.com//7.2.3.1//EN
TZID:Europe/Berlin
X-WR-TIMEZONE:Europe/Berlin
BEGIN:VEVENT
UID:404@kletterscheune.de
DTSTART;TZID=Europe/Berlin:20260527T190000
DTEND;TZID=Europe/Berlin:20260527T210000
DTSTAMP:20260407T093648Z
URL:https://www.kletterscheune.de/events/mittwochs-klettertreff-2-2026-04-
 08-2026-04-15-2026-04-22-2026-04-29-2026-05-06-2026-05-13-2026-05-20-2026-
 05-27/
SUMMARY:Mittwochs-Klettertreff
DESCRIPTION:Vereinsmitglieder jeden Alters klettern und bouldern in der Sch
 eune gemäß den Regelungen der Hallenordnung für ein freies Training.\n\
 nEin fester Kletterpartner ist nicht erforderlich.\n\nEine Vereinsmitglied
 schaft ist Teilnahmevoraussetzung. Ein Schnupperklettern für Nichtmitglie
 der mit oder ohne Klettererfahrung ist aber ohne vorherige Anmeldung mögl
 ich.\n\nEs handelt sich vom Charakter um ein freies Klettern\, daher hande
 ln alle zunächst eigenverantwortlich.\n\nFürs Schnupperklettern ist eine
  Spende 5-10 € in die Vereinskasse/Spendenberg erwünscht.
CATEGORIES:Freies Training
LOCATION:Kletterscheune\, Sonntagsstraße 25\, 65597 Hünfelden\, Deutschla
 nd
X-APPLE-STRUCTURED-LOCATION;VALUE=URI;X-ADDRESS=Sonntagsstraße 25\, 65597 
 Hünfelden\, Deutschland;X-APPLE-RADIUS=100;X-TITLE=Kletterscheune:geo:0,0
END:VEVENT
BEGIN:VTIMEZONE
TZID:Europe/Berlin
X-LIC-LOCATION:Europe/Berlin
BEGIN:DAYLIGHT
DTSTART:20260329T030000
TZOFFSETFROM:+0100
TZOFFSETTO:+0200
TZNAME:CEST
END:DAYLIGHT
END:VTIMEZONE
END:VCALENDAR